BEGIN:VCALENDAR
VERSION:2.0
PRODID:-//Hephzibah Children&#039;s Association - ECPv6.15.20//NONSGML v1.0//EN
CALSCALE:GREGORIAN
METHOD:PUBLISH
X-WR-CALNAME:Hephzibah Children&#039;s Association
X-ORIGINAL-URL:https://www.hephzibahhome.org
X-WR-CALDESC:Events for Hephzibah Children&#039;s Association
REFRESH-INTERVAL;VALUE=DURATION:PT1H
X-Robots-Tag:noindex
X-PUBLISHED-TTL:PT1H
BEGIN:VTIMEZONE
TZID:America/Chicago
BEGIN:DAYLIGHT
TZOFFSETFROM:-0600
TZOFFSETTO:-0500
TZNAME:CDT
DTSTART:20180311T080000
END:DAYLIGHT
BEGIN:STANDARD
TZOFFSETFROM:-0500
TZOFFSETTO:-0600
TZNAME:CST
DTSTART:20181104T070000
END:STANDARD
BEGIN:DAYLIGHT
TZOFFSETFROM:-0600
TZOFFSETTO:-0500
TZNAME:CDT
DTSTART:20190310T080000
END:DAYLIGHT
BEGIN:STANDARD
TZOFFSETFROM:-0500
TZOFFSETTO:-0600
TZNAME:CST
DTSTART:20191103T070000
END:STANDARD
BEGIN:DAYLIGHT
TZOFFSETFROM:-0600
TZOFFSETTO:-0500
TZNAME:CDT
DTSTART:20200308T080000
END:DAYLIGHT
BEGIN:STANDARD
TZOFFSETFROM:-0500
TZOFFSETTO:-0600
TZNAME:CST
DTSTART:20201101T070000
END:STANDARD
BEGIN:DAYLIGHT
TZOFFSETFROM:-0600
TZOFFSETTO:-0500
TZNAME:CDT
DTSTART:20210314T080000
END:DAYLIGHT
BEGIN:STANDARD
TZOFFSETFROM:-0500
TZOFFSETTO:-0600
TZNAME:CST
DTSTART:20211107T070000
END:STANDARD
END:VTIMEZONE
BEGIN:VEVENT
DTSTART;TZID=America/Chicago:20201219T180000
DTEND;TZID=America/Chicago:20201219T193000
DTSTAMP:20260423T093722
CREATED:20201208T184544Z
LAST-MODIFIED:20201220T202150Z
UID:216953-1608400800-1608406200@www.hephzibahhome.org
SUMMARY:Virtual Winter Olympics
DESCRIPTION:If you’d like to play with your friends or family\, make sure to list their names below when registering\, and sign up your team on our GoogleSheet here\nInterested in sponsoring the event? Review the Sponsorship Packet here for more info on benefits. Levels start at $100. Sponsors get free tickets to the event!\nDon’t forget! You MUST register using the email you used to create your Zoom account AND use this email to log into the event via Zoom on 12/19.  Need a Zoom account?  It’s fast & free!  Click here to create an account or to log in to confirm what email you need to register & play with.\n\n\n \nFAQ\nQ: What are the requirements to play?\nA: A computer or tablet\, internet connection and webcam (must have video & audio to compete!)\, and you must register & play with a Zoom email. \nQ: Do I need any supplies to participate?\nA: None! If you do have a tape measure though\, please have it handy! This will be helpful\, but not required. \nQ; Is there an age restriction?\nA: While some games may be easier to score more points in if you are above 18 (hint: decade-specific knowledge)\, this event is open to anyone over the age of 14. \nQ: What device should I use?\nA: While we strongly recommend using a computer\, you may also use a tablet. Phones will NOT be able to support the event activities. \nQ: When will I get my Zoom link?\nA: We will send the Zoom link to your Zoom account email the day of the event. \nQ: How do I make sure I’m playing with my Zoom email?\nA: Right before the event\, login to your Zoom account on your browser using the same Zoom email you registered with. Then\, there are 2 ways to join the event: 1) From your Zoom account\, click “Join a Meeting.” Then enter the Meeting ID located in the email we will send the day of the event\, or 2) after logging into your Zoom account on your browser\, head back to the email we’ll send with the Zoom link the day of the event and click the meeting URL. \nQ: Is it possible for more than 1 person in my household to play?\nA: Absolutely! If more than 1 person in your household would like to play then each person will need to register separately & will need to use their own computer (note: if you will be playing in the same room or close to one another\, you may get audio feedback/an echo. In this case\, you will need to disconnect audio on one of the devices). You may also participate as a team with other members of your household by registering one person only. In this case you will only need one computer/tablet\, but you will play together as one “player.” Only one person can play each game though so the household members will need to decide who plays each round. \nThis event is sponsored by: \n \n 
URL:https://www.hephzibahhome.org/event/virtual-winter-olympics/
LOCATION:VIRTUAL VIA YOU TUBE LIVE
CATEGORIES:Auxiliary Board,Event
END:VEVENT
BEGIN:VEVENT
DTSTART;TZID=America/Chicago:20201211T200000
DTEND;TZID=America/Chicago:20201211T220000
DTSTAMP:20260423T093722
CREATED:20201112T204739Z
LAST-MODIFIED:20201113T185401Z
UID:216827-1607716800-1607724000@www.hephzibahhome.org
SUMMARY:Name That Jingle
DESCRIPTION:Hephzibah Western Auxiliary and the Dynamic DJ Duo of Tyler & Steph Qualio invite you to \n“NAME THAT JINGLE” A VIRTUAL EXPERIENCE \nWhere? In the Comfort of your home\, firepit\, porch\, or wherever you can login to Zoom as a couple or team following current COVID protocol. \n$25/person benefitting Hephzibah Western Auxiliary \nHoliday attire of your choice: jammies\, ugly sweaters\, or your holiday best \nFurther details and the Zoom link will be arriving to your inbox soon! \nDate: December 11th from 8-10pm \nContact: Stephanie Qualio\, stephqualio@gmail.com \n 
URL:https://www.hephzibahhome.org/event/name-that-jingle/
LOCATION:VIRTUAL VIA YOU TUBE LIVE
CATEGORIES:Auxiliary Board,Event
ORGANIZER;CN="Stephanie Qualio":MAILTO:stephqualio@gmail.com
END:VEVENT
BEGIN:VEVENT
DTSTART;TZID=America/Chicago:20200918T090000
DTEND;TZID=America/Chicago:20200918T100000
DTSTAMP:20260423T093722
CREATED:20200819T233540Z
LAST-MODIFIED:20200917T205319Z
UID:216692-1600419600-1600423200@www.hephzibahhome.org
SUMMARY:Annual Meeting of the Board of Directors 2020
DESCRIPTION:Racial equity and justice for families and communities of color\nPresenters:  Robert Blackwell & Elke Hansen\n\n\nFree Event\n\nHephzibah is committed to the important issues of inclusion\, racial equity and justice for families and communities of color. These timely issues have significant impact on the children and families we serve. Guest presenters Robert Blackwell\, DCFS Office of Racial Equity Practice\, and Elke Hansen\, Caritas Family Solutions\, will share their insights and experiences to help us better serve and partner with vulnerable communities. \n\nZoom participant link\n\nMeeting ID: 811 5647 8201 \nPasscode: 706798 \nDial by your location \n        +1 312 626 6799 US (Chicago) \n        +1 646 558 8656 US (New York) \n        +1 301 715 8592 US (Germantown) \n        +1 669 900 9128 US (San Jose) \n        +1 253 215 8782 US (Tacoma) \n        +1 346 248 7799 US (Houston) \nFind your local number: https://us02web.zoom.us/u/kewAMqAeZN \n\n[minti_divider margin=”10px 0 10px 0″]\n \n[minti_divider margin=”10px 0 10px 0″]\nSpeakers\nRobert Blackwell\nRobert Blackwell was appointed in 2012 as the Chief of the Office of Racial Equity Practice for the Illinois Department of Children and Family Services. Bob leads the Department’s efforts to address and eliminate racial disparities and unwanted disproportionality in the Illinois Child Welfare System. This effort is supported through the Department’s Permanency Enhancement Project Initiative and ultimately seeks a “Racially-Informed Practice” in Illinois. \nMr. Blackwell holds a Masters in Social Work degree from the University of Illinois. From 1977 to 1984 he worked as a counselor\, job developer and program director at the Springfield Urban League in Springfield\, Illinois. In 1984\, he joined the Illinois Department of Children and Family Services where he served in a variety of executive-level management positions until 1992\, including the areas of resource development\, quality assurance\, personnel\, internal investigations\, auditing and licensing. Bob also served as the Special Assistant to the Director for the Department. \nFrom 1992 to 2004 Mr. Blackwell served a stint as Executive Director of the Springfield Housing Authority and established the consulting firm of Ujima Management Consultants\, Inc. As a consultant\, he provided case management administration\, information systems development\, facilitation services and race relations consultation services to non-profit and governmental clients. \nMr. Blackwell returned to the Illinois Department of Children and Family Services in 2004 as the Regional Administrator of Central Region where he planned and coordinated service delivery of Field Operations and Child Protection services for 7 ½ years. \nBob continues to be active in his community through his service on many boards and task forces\, including the Public School’s Minority Hiring Task Force\, the Springfield Dominican Sisters Antiracism Team and his church\, Abundant Faith Christian Center. Bob is married to Carolyn for 47 years\, they share 3 daughters\, Tracey\, Nicole and Deanna. He is also an avid fly fisherman\, consultant and entertainer to his five (5) grandchildren\, Rosa\, Elijah\, Jordan\, Jude and Jonas \nElke Hansen\nElke is the Regional Director of the Belleville Region with Caritas Family Solutions (Belleville\, Illinois). She has worked with Caritas for the last 7 ½ years\, overseeing foster care\, residential treatment program\, community counseling and a senior employment program\, with over 100 employees and approximately 500 clients and their families. \nShe is the daughter of German parents\, born and raised in Switzerland\, and a US citizen for the last 14 years. She received a National Degree in Social Work and Pedagogy from the School of Social Services in Solothurn\, Switzerland and her Master’s degree in Social Work (MSW) from St. Louis University. She holds a Licensed Clinical Social Work license in Missouri. \nElke speaks six languages\, Swiss German\, German\, French\, Italian\, Spanish and English. She lives with her husband\, who is from Chile\, South America\, in St. Louis\, MO. \nIn Switzerland\, she worked in a residential setting for young adults with severe physical and mental challenges\, rural drug and alcohol counseling agency\, teens in independent living setting\, survival assistance for drug addicted women working in on the streets \nIn the US\, she worked at a battered women shelter\, living and working in the shelter for undocumented immigrants in East Los Angeles\, inner-city residential setting for abused and neglected children\, young adults and pregnant/parenting teen girls\, National Multiple Sclerosis Society\, residential setting for traumatized children and self-harm program \nRacial equity work\, official functions: \nElke is a member of the Southern Region Transformation Team\, consisting of private child welfare agencies & the Illinois Department of Children and Family Services (DCFS). She is co-chair of the Illinois statewide CWAC Committee on Racial Equity Practice in Child Welfare.
URL:https://www.hephzibahhome.org/event/annual-meeting-of-the-board-of-directors-2020/
LOCATION:VIRTUAL VIA YOU TUBE LIVE
CATEGORIES:Event
END:VEVENT
BEGIN:VEVENT
DTSTART;TZID=America/Chicago:20200523T080000
DTEND;TZID=America/Chicago:20200525T170000
DTSTAMP:20260423T093722
CREATED:20200505T155239Z
LAST-MODIFIED:20200519T163659Z
UID:216412-1590220800-1590426000@www.hephzibahhome.org
SUMMARY:Memorial Day Weekend 20th Annual Hoof it for Hephzibah--Virtual Edition!
DESCRIPTION:Our virtual race this year offers the chance for you to Hoof It however and whenever you would like any time during Memorial Day weekend. What does that mean? \nTake the opportunity to get creative and Hoof It HOWEVER you’d like! \n\nWalk or Run a 5K\nDo an obstacle course in your yard\nRide your bikes with your family\nDo an online yoga class\nDance with friends.\n\nLet us see your version of #howihoofit Of course we encourage you to use whatever safe\, social distance measures are applicable where you are located. We can’t wait to see what #howihoofit means to you this year. \nWe will be using our Western Auxiliary Instagram and Facebook pages to check in on #howihoofit so please tag us in your pictures on social media so we can see your version of #howihoofit. \nBattle of the Schools is still on!  Please indicate your school affiliation to show your school spirit!  The school with the most participants gets the title of winner of this year’s Battle of the Schools. PLEASE NOTE:  The form below will ask you what school you attend—if you are an adult\, please write N/A. Thanks! \nHere are some suggested local routes: \n  \nLet’s all support Hephzibah and sign-up to show us  #howihoofit! \n[minti_alert type=”notice” close=”false”] \nBecome a fundraiser for this event!\nWe have partnered with everydayhero to raise money and awareness for this event. Everydayhero helps people support the causes they love by spreading the word through e-mail or social media to your friends and family. If you want to join in\, it’s really easy! Just click the button below\, choose a password and it is simple to create a free everydayhero fundraising page just for you. \n[minti_button link=”https://nfp.everydayhero.com/us/hephzibah-childrens-association” size=”medium” target=”_self” lightbox=”false” color=”color-1″ icon=””]Start a fundraiser now[/minti_button] \n[/minti_alert] \n[minti_divider style=”1″ icon=”” margin=”20px 0px 20px 0px”]
URL:https://www.hephzibahhome.org/event/virtual-hoofit/
CATEGORIES:Auxiliary Board,Event
END:VEVENT
BEGIN:VEVENT
DTSTART;TZID=America/Chicago:20200131T190000
DTEND;TZID=America/Chicago:20200131T235900
DTSTAMP:20260423T093722
CREATED:20190110T183000Z
LAST-MODIFIED:20200130T161239Z
UID:6771-1580497200-1580515140@www.hephzibahhome.org
SUMMARY:Rock 'N' Roll For Your Heart & Soul
DESCRIPTION:Join Hephzibah’s Western Auxiliary in funding Sibling Camp!\n\nLive Music\nAppetizers\nBeverages available for purchase – including Alter’s craft beers!\nRaffle\nBackpack Dash\n\nLive Music:\n\nBack Pocket Bourbon\nSgt. Pepper’s Tiny Hearts Club Band\n\nTickets are $80 in advance\, $85 at the door\nEARLY PRICING OF $80 PER TICKET IS ONLY GOOD UNTIL NOON ON 1/31. AFTER THAT IT’S $85\n[minti_divider style=”1″ icon=”” margin=”20px 0px 20px 0px”] \nGet Your Tickets Now
URL:https://www.hephzibahhome.org/event/rock-n-roll-for-your-heart-soul-2020/
LOCATION:Alter Brewing Company – The Barrel Room\, 2300 Wisconsin Ave.\, Downers Grove
CATEGORIES:Event
ORGANIZER;CN="Whitney Gravely":MAILTO:wgravely@www.hephzibahhome.org
END:VEVENT
BEGIN:VEVENT
DTSTART;TZID=America/Chicago:20191115T190000
DTEND;TZID=America/Chicago:20191115T230000
DTSTAMP:20260423T093722
CREATED:20190821T165211Z
LAST-MODIFIED:20191105T162115Z
UID:7482-1573844400-1573858800@www.hephzibahhome.org
SUMMARY:Swanksgiving
DESCRIPTION:Join us for one of our newest events\, Swanksgiving. This event is organized by our incredible Chicago Auxiliary Board to raise support and awareness for Hephzibah Children’s Association. \nSwanksgiving will be held on Friday\, November 15\, 2019\, at The Lakewood\, Paramount Events’ private Chicago venue located in the trendy West Loop. Guests will enjoy open bar\, delicious food\, a DJ\, and the chance to win fun and exciting raffle items. \n         \n  \nSwanksgiving Sponsorship Packet \nSwanksgiving Raffle Donation Form
URL:https://www.hephzibahhome.org/event/swanksgiving2019/
LOCATION:The Lakewood\, 1758 W. Lake Street\, Chicago\, IL\, 60612\, United States
CATEGORIES:Auxiliary Board,Event
ATTACH;FMTTYPE=image/jpeg:https://www.hephzibahhome.org/wp-content/uploads/2019/08/Final-Swanksgiving-Logo.jpg
END:VEVENT
BEGIN:VEVENT
DTSTART;TZID=America/Chicago:20190507T200000
DTEND;TZID=America/Chicago:20190507T220000
DTSTAMP:20260423T093722
CREATED:20190314T190622Z
LAST-MODIFIED:20190411T182050Z
UID:7008-1557259200-1557266400@www.hephzibahhome.org
SUMMARY:Ham Bingo
DESCRIPTION:Join the Oak Park Auxiliary Board to play bingo and share some laughs at this fun twist on charity bingo sponsored by Hamburger Mary’s Show Lounge and the Oak Park Brewing Co. in Oak Park. Join Diva Savannah Westbrooke’s this is NOT your typical “church basement bingo.” It’s all about having fun while supporting Hephzibah! Bring a group of friends and enjoy a lot of laughs! \nThe show can get a little risque\, so enjoy the drink specials and leave the kids at home!\nIncluded with your ticket is one bingo card for 10 games. Additional bingo cards will be available at the door.  Fun prizes and great raffle items will make for an entertaining night!
URL:https://www.hephzibahhome.org/event/ham-bingo-2/
LOCATION:Oak Park Brewing Co.\, 155 S. Oak Park Avenue\, Oak Park\, IL\, 60302
CATEGORIES:Event
ATTACH;FMTTYPE=image/png:https://www.hephzibahhome.org/wp-content/uploads/2017/03/skyline_oakpark_showlounge.png
ORGANIZER;CN="Whitney Gravely":MAILTO:wgravely@www.hephzibahhome.org
END:VEVENT
BEGIN:VEVENT
DTSTART;TZID=America/Chicago:20190330T143000
DTEND;TZID=America/Chicago:20190330T170000
DTSTAMP:20260423T093722
CREATED:20190205T173646Z
LAST-MODIFIED:20190205T181149Z
UID:6928-1553956200-1553965200@www.hephzibahhome.org
SUMMARY:Care & Spare Bowling Fundraiser
DESCRIPTION:Join Hephzibah’s Chicago Auxiliary Board for a fun-filled day of bowling\nTimber Lanes Bowling Alley\n1851 W Irving Park Rd.\nChicago 60613 \nAll proceeds directly benefit Hephzibah Children’s Association \nRegistration fee is $50 and includes: \n\n2.5 hours of bowling\nshoe rental\npizza\ntwo drink tickets\n\n*Attendees must be 21 and older \nContact Whitney Gravely at wgravely@www.hephzibahhome.org for more info
URL:https://www.hephzibahhome.org/event/care-spare-bowling-fundraiser/
LOCATION:Timber Lanes Bowling Alley\, 1851 W. Irving Park Road\, Chicago\, IL\, 60613\, United States
CATEGORIES:Event
ORGANIZER;CN="Whitney Gravely":MAILTO:wgravely@www.hephzibahhome.org
END:VEVENT
END:VCALENDAR